BEGIN:VCALENDAR
VERSION:2.0
PRODID:-//wp-events-plugin.com//7.2.2.1//EN
TZID:Europe/Paris
X-WR-TIMEZONE:Europe/Paris
BEGIN:VEVENT
UID:55@natureporcelaine.fr
DTSTART;TZID=Europe/Paris:20250902T100000
DTEND;TZID=Europe/Paris:20260118T180000
DTSTAMP:20250911T141003Z
URL:https://natureporcelaine.fr/events/exposition-jeu-de-lumiere-a-la-gale
 rie-des-arts-du-feu-rouen/
SUMMARY:Exposition "Jeu de Lumière" à la Galerie des Arts du Feu Rouen
DESCRIPTION:&nbsp\;\n\n&nbsp\;\n\nA l'Aître Saint Maclou à Rouen \n\nDu 2
  septembre 2025 au 18 janvier 2026\n\nDécouvrez une vingtaine d'artisans 
 d'art exposant dans ce magnifique lieu\n\n&nbsp\;\n\n    
CATEGORIES:Salons
END:VEVENT
BEGIN:VTIMEZONE
TZID:Europe/Paris
X-LIC-LOCATION:Europe/Paris
BEGIN:DAYLIGHT
DTSTART:20250330T030000
TZOFFSETFROM:+0100
TZOFFSETTO:+0200
TZNAME:CEST
END:DAYLIGHT
BEGIN:STANDARD
DTSTART:20251026T020000
TZOFFSETFROM:+0200
TZOFFSETTO:+0100
TZNAME:CET
END:STANDARD
END:VTIMEZONE
END:VCALENDAR